BEGIN:VCALENDAR
VERSION:2.0
PRODID:-//eventon.com NONSGML v1.0//EN
CALSCALE:GREGORIAN
METHOD:PUBLISH
BEGIN:VEVENT
UID:69e4d475e67db
DTSTAMP:20260419T131117Z
DTSTART:20251025T123000Z
DTEND:20251025T160000Z
LOCATION:Mycenae House 90 Mycenae Road\,  SE3 7SE
SUMMARY:Improvers Face Painting
DESCRIPTION:This one day course will take you from the basics of Face Paint
 ing through into the next stage of more advanced techniques. This course is
  ideal for those with little experience or for those that have had more exp
 erience of face painting\,  you can learn new techniques from this day[..]\
 nhttps://follies.co.uk/events/improvers-face-painting-2/
URL:https://follies.co.uk/events/improvers-face-painting-2/
END:VEVENT
END:VCALENDAR